BEGIN:VCALENDAR
VERSION:2.0
PRODID:-//JDEMart.com - ECPv6.15.18//NONSGML v1.0//EN
CALSCALE:GREGORIAN
METHOD:PUBLISH
X-ORIGINAL-URL:https://jdemart.com
X-WR-CALDESC:Events for JDEMart.com
REFRESH-INTERVAL;VALUE=DURATION:PT1H
X-Robots-Tag:noindex
X-PUBLISHED-TTL:PT1H
BEGIN:VTIMEZONE
TZID:Europe/Madrid
BEGIN:DAYLIGHT
TZOFFSETFROM:+0100
TZOFFSETTO:+0200
TZNAME:CEST
DTSTART:20230326T010000
END:DAYLIGHT
BEGIN:STANDARD
TZOFFSETFROM:+0200
TZOFFSETTO:+0100
TZNAME:CET
DTSTART:20231029T010000
END:STANDARD
BEGIN:DAYLIGHT
TZOFFSETFROM:+0100
TZOFFSETTO:+0200
TZNAME:CEST
DTSTART:20240331T010000
END:DAYLIGHT
BEGIN:STANDARD
TZOFFSETFROM:+0200
TZOFFSETTO:+0100
TZNAME:CET
DTSTART:20241027T010000
END:STANDARD
BEGIN:DAYLIGHT
TZOFFSETFROM:+0100
TZOFFSETTO:+0200
TZNAME:CEST
DTSTART:20250330T010000
END:DAYLIGHT
BEGIN:STANDARD
TZOFFSETFROM:+0200
TZOFFSETTO:+0100
TZNAME:CET
DTSTART:20251026T010000
END:STANDARD
END:VTIMEZONE
BEGIN:VEVENT
DTSTART;TZID=Europe/Madrid:20241212T190000
DTEND;TZID=Europe/Madrid:20241212T200000
DTSTAMP:20260422T114006
CREATED:20241123T191807Z
LAST-MODIFIED:20241123T191808Z
UID:54240-1734030000-1734033600@jdemart.com
SUMMARY:Start your Orchestrator Journey Now - with Todd Nelson from iLearnERP
DESCRIPTION:Join us for a brief yet comprehensive webinar to introduce the potential of JDE Orchestrator. Discover what the Orchestrator is and explore its capabilities to transform business processes. \n			\n				\n				\n				\n				\n				We’ll cover the fundamentals of navigation and break down the components that make up orchestrations\, providing you with the essential knowledge to build your own.  \nYou’ll also learn how orchestrations integrate with EnterpriseOne\, offering a fresh perspective on creating effective solutions.  \nThis session will provide you with the information you need to get started as an Orchestration Designer\, empowering you to drive innovation and efficiency in your organization. \n\nLearn how to get started with Orchestrator Studio\nExplore training and support options\nAsk experts your unique Orchestrator launch questions\n\n			\n				REGISTER NOW\n			\n			\n				\n				\n				\n				\n			\n				\n				\n				\n				\n				\n				\n				\n				\n				\n				\n				\n\n\n\n\nCan’t attend the live sessions? No problem! Register anyway\, and we’ll send you the on-demand recordings shortly after the event. For any questions\, feel free to contact Rodney at rodney@jdemart.com.
URL:https://jdemart.com/event/start-your-orchestrator-journey-now-with-todd-nelson-from-ilearnerp/
LOCATION:Webinar
CATEGORIES:Webinar
ATTACH;FMTTYPE=image/png:https://jdemart.com/wp-content/uploads/2024/11/Blue-and-Black-Flat-Illustration-Chain-Resilience-Instagram-Story-1200-x-1200-px-11.png
END:VEVENT
END:VCALENDAR