BEGIN:VCALENDAR
VERSION:2.0
PRODID:-//JDEMart.com - ECPv6.15.18//NONSGML v1.0//EN
CALSCALE:GREGORIAN
METHOD:PUBLISH
X-ORIGINAL-URL:https://jdemart.com
X-WR-CALDESC:Events for JDEMart.com
REFRESH-INTERVAL;VALUE=DURATION:PT1H
X-Robots-Tag:noindex
X-PUBLISHED-TTL:PT1H
BEGIN:VTIMEZONE
TZID:Europe/Madrid
BEGIN:DAYLIGHT
TZOFFSETFROM:+0100
TZOFFSETTO:+0200
TZNAME:CEST
DTSTART:20230326T010000
END:DAYLIGHT
BEGIN:STANDARD
TZOFFSETFROM:+0200
TZOFFSETTO:+0100
TZNAME:CET
DTSTART:20231029T010000
END:STANDARD
BEGIN:DAYLIGHT
TZOFFSETFROM:+0100
TZOFFSETTO:+0200
TZNAME:CEST
DTSTART:20240331T010000
END:DAYLIGHT
BEGIN:STANDARD
TZOFFSETFROM:+0200
TZOFFSETTO:+0100
TZNAME:CET
DTSTART:20241027T010000
END:STANDARD
BEGIN:DAYLIGHT
TZOFFSETFROM:+0100
TZOFFSETTO:+0200
TZNAME:CEST
DTSTART:20250330T010000
END:DAYLIGHT
BEGIN:STANDARD
TZOFFSETFROM:+0200
TZOFFSETTO:+0100
TZNAME:CET
DTSTART:20251026T010000
END:STANDARD
END:VTIMEZONE
BEGIN:VEVENT
DTSTART;TZID=Europe/Madrid:20240910T200000
DTEND;TZID=Europe/Madrid:20240910T210000
DTSTAMP:20260425T235557
CREATED:20240810T102427Z
LAST-MODIFIED:20240811T102020Z
UID:54066-1725998400-1726002000@jdemart.com
SUMMARY:Key Considerations for Automating Supplier and Customer Transactions into JD Edwards
DESCRIPTION:Accounts Payable and Customer Service/Order Entry are two processes that are often document-centric and highly manual. Automating both processes can significantly enhance operational efficiency\, reduce costs\, provide greater process visibility\, and improve customer satisfaction. \n			\n				\n				\n				\n				\n				This presentation explores the key considerations JD Edwards customers must address when implementing automation technologies\, including selecting appropriate automation tools\, ensuring data integration and compatibility\, and aligning with business requirements.  \nAdditionally\, we will discuss the importance of the implementation process in driving the desired results\, and the need for continuous monitoring and improvement post-implementation. By addressing these considerations\, JD Edwards customers can effectively leverage automation to drive growth and streamline operations across both front and back office functions.  \n			\n				REGISTER NOW\n			\n				\n				\n				\n				\n				\n\n\n\n\nCan’t make it on this date? No worries! Register anyway\, and we’ll send you the on-demand recording shortly after the broadcast. For inquiries\, please contact rodney@jdemart.com
URL:https://jdemart.com/event/key-considerations-for-automating-supplier-and-customer-transactions-into-jd-edwards/
LOCATION:Webinar
ATTACH;FMTTYPE=image/jpeg:https://jdemart.com/wp-content/uploads/2024/08/APA-Automation-APPLY.jpg
END:VEVENT
END:VCALENDAR