BEGIN:VCALENDAR
VERSION:2.0
PRODID:-//JDEMart.com - ECPv6.15.18//NONSGML v1.0//EN
CALSCALE:GREGORIAN
METHOD:PUBLISH
X-ORIGINAL-URL:https://jdemart.com
X-WR-CALDESC:Events for JDEMart.com
REFRESH-INTERVAL;VALUE=DURATION:PT1H
X-Robots-Tag:noindex
X-PUBLISHED-TTL:PT1H
BEGIN:VTIMEZONE
TZID:Europe/Madrid
BEGIN:DAYLIGHT
TZOFFSETFROM:+0100
TZOFFSETTO:+0200
TZNAME:CEST
DTSTART:20230326T010000
END:DAYLIGHT
BEGIN:STANDARD
TZOFFSETFROM:+0200
TZOFFSETTO:+0100
TZNAME:CET
DTSTART:20231029T010000
END:STANDARD
BEGIN:DAYLIGHT
TZOFFSETFROM:+0100
TZOFFSETTO:+0200
TZNAME:CEST
DTSTART:20240331T010000
END:DAYLIGHT
BEGIN:STANDARD
TZOFFSETFROM:+0200
TZOFFSETTO:+0100
TZNAME:CET
DTSTART:20241027T010000
END:STANDARD
BEGIN:DAYLIGHT
TZOFFSETFROM:+0100
TZOFFSETTO:+0200
TZNAME:CEST
DTSTART:20250330T010000
END:DAYLIGHT
BEGIN:STANDARD
TZOFFSETFROM:+0200
TZOFFSETTO:+0100
TZNAME:CET
DTSTART:20251026T010000
END:STANDARD
END:VTIMEZONE
BEGIN:VEVENT
DTSTART;TZID=Europe/Madrid:20240410T150000
DTEND;TZID=Europe/Madrid:20240410T160000
DTSTAMP:20260423T093533
CREATED:20240227T215206Z
LAST-MODIFIED:20240227T215207Z
UID:53747-1712761200-1712764800@jdemart.com
SUMMARY:Revolutionizing JDE End User Adoption with AI-Powered 'Follow Me' Guidance
DESCRIPTION:Join us for an exclusive webinar unveiling Epilogue Systems’ groundbreaking AI-powered ‘Follow Me’ functionality within Opus\, their premier digital adoption platform (DAP).\n			\n				\n				\n				\n				\n				In an era where digital transformation is pivotal\, the ability to seamlessly onboard and support users in complex software environments\, such as JDE\, can significantly impact productivity and user satisfaction.  \nThis upcoming webinar is designed to provide a comprehensive overview of how ‘Follow Me’ utilizes artificial intelligence to offer real-time\, step-by-step guidance tailored to each user’s context and needs. Attendees will gain insights into the core mechanics of ‘Follow Me’\, including its ability to predict support needs and deliver just-in-time assistance that enhances learning and task completion rates. \nWe will explore practical applications\, showcasing how ‘Follow Me’ can be leveraged across various industries to drive software adoption\, reduce support costs\, and empower users to become proficient with complex applications more rapidly. \nJoin us to discover how Epilogue Systems is shaping the future of digital adoption and user support through AI\, and how you can be a part of this transformative journey. \n			\n				REGISTER NOW\n			\n				\n				\n				\n				\n				Can’t make it on this date?Register anyway and we’ll send you the webinar recording after the event.
URL:https://jdemart.com/event/revolutionizing-jde-end-user-adoption-with-ai-powered-follow-me-guidance/
LOCATION:Webinar
CATEGORIES:Webinar
ATTACH;FMTTYPE=image/jpeg:https://jdemart.com/wp-content/uploads/2024/02/jdemarteventscalendar-image-OPUS.jpg
END:VEVENT
BEGIN:VEVENT
DTSTART;TZID=Europe/Madrid:20240417T160000
DTEND;TZID=Europe/Madrid:20240417T170000
DTSTAMP:20260423T093533
CREATED:20240222T072951Z
LAST-MODIFIED:20240222T073508Z
UID:53741-1713369600-1713373200@jdemart.com
SUMMARY:Using Mobile Approvals to speed up and enhance JDE approval processes
DESCRIPTION:Discover a game-changing approach to accelerate and elevate your JD Edwards approval workflows! Join our compelling webinar on Mobile Approvals featuring Approval Express – the must-have add-on utility that speeds up and enhances standard JD Edwards approval processes.\n			\n				\n				\n				\n				\n				Experience the freedom of enhanced visibility as approvers gain access to approval transactions from their remote devices\, at any time\, and from anywhere. This groundbreaking capability empowers decision-makers to streamline approval processes without being tethered to the JD Edwards platform. With Approval Express\, senior management and approvers can swiftly respond to critical approval requests\, including Purchase Orders\, Work Orders\, and Accounts Payable Invoices\, using any device equipped with an email client. \nThis not only enhances efficiency but also transforms how organizations approach and expedite their entire approval workflow. \nKey benefits:  \n\nUnprecedented Visibility: Monitor approval transactions seamlessly on your remote device.\nTimely Decisions: Empower approvers to make swift decisions without the need to log in to JD Edwards.\nAnytime\, Anywhere Approval: Respond to critical requests on the go\, using any device with an email client.\nStreamlined Processes: Significantly expedite your organization’s approval workflows.\n\nDon’t miss out on this transformative webinar. We look forward to seeing you on this exciting webinar! \n			\n				REGISTER NOW\n			\n				\n				\n				\n				\n				Can’t make it on this date?Register anyway and we’ll send you the webinar recording after the event.
URL:https://jdemart.com/event/using-mobile-approvals-to-speed-up-and-enhance-jde-approval-processes/
LOCATION:Webinar
CATEGORIES:Webinar
ATTACH;FMTTYPE=image/jpeg:https://jdemart.com/wp-content/uploads/2024/02/mobile-approvals-wed-apr-17.jpg
END:VEVENT
BEGIN:VEVENT
DTSTART;TZID=Europe/Madrid:20240425T190000
DTEND;TZID=Europe/Madrid:20240425T200000
DTSTAMP:20260423T093533
CREATED:20240408T173620Z
LAST-MODIFIED:20240408T173738Z
UID:53766-1714071600-1714075200@jdemart.com
SUMMARY:Unlocking Enterprise Analytics for JD Edwards
DESCRIPTION:Say goodbye to legacy JD Edwards reporting and messy spreadsheets\, and hello to compelling analytics and reporting in Power BI. Enterprise analytics is a powerful tool that helps business leaders access\, organize\, and use all forms of enterprise-wide data—usually from multiple sources—to gain the insights they need for data-driven decision making.\n			\n				\n				\n				\n				\n				This cutting-edge technology provides new opportunities for organizations to quickly process large\, diverse data sets and uncover valuable information that will save your company time and money.  \nIn this education session\, you will learn how to:  \n+ Seamlessly integrate your JD Edwards ERP data with other corporate data sources into a modern cloud-based data architecture designed to scale with your data footprint.+ Access key Power BI reports and dashboards on any device\, and receive automated reports delivered directly to your inbox.+ Eliminate data silos to gain insights into cross-business area performance using consistent business calculations and validated data business users can trust.  \nWe look forward to seeing you on this exciting webinar!  \n			\n				REGISTER NOW\n			\n				\n				\n				\n				\n				Can’t make it on this date?Register for April 30th at 7am Pacific Time / 10am EDT –Or simply register and we’ll send you the on-demand recording shortly after the broadcast date. For questions please contact stephanie@jdemart.com
URL:https://jdemart.com/event/unlocking-enterprise-analytics-for-jd-edwards/
LOCATION:Webinar
CATEGORIES:Webinar
ATTACH;FMTTYPE=image/jpeg:https://jdemart.com/wp-content/uploads/2024/04/BIREPORTING-jdemarteventscalendar-APR25.jpg
END:VEVENT
BEGIN:VEVENT
DTSTART;TZID=Europe/Madrid:20240430T160000
DTEND;TZID=Europe/Madrid:20240430T170000
DTSTAMP:20260423T093533
CREATED:20240408T174352Z
LAST-MODIFIED:20240408T174402Z
UID:53776-1714492800-1714496400@jdemart.com
SUMMARY:Unlocking Enterprise Analytics for JD Edwards
DESCRIPTION:Say goodbye to legacy JD Edwards reporting and messy spreadsheets\, and hello to compelling analytics and reporting in Power BI. Enterprise analytics is a powerful tool that helps business leaders access\, organize\, and use all forms of enterprise-wide data—usually from multiple sources—to gain the insights they need for data-driven decision making.\n			\n				\n				\n				\n				\n				This cutting-edge technology provides new opportunities for organizations to quickly process large\, diverse data sets and uncover valuable information that will save your company time and money.  \nIn this education session\, you will learn how to:  \n+ Seamlessly integrate your JD Edwards ERP data with other corporate data sources into a modern cloud-based data architecture designed to scale with your data footprint.+ Access key Power BI reports and dashboards on any device\, and receive automated reports delivered directly to your inbox.+ Eliminate data silos to gain insights into cross-business area performance using consistent business calculations and validated data business users can trust.  \nWe look forward to seeing you on this exciting webinar!  \n			\n				REGISTER NOW\n			\n				\n				\n				\n				\n				Can’t make it on this date?Register for April 25th at 10am Pacific Time / 1pm EDT  –Or simply register and we’ll send you the on-demand recording shortly after the broadcast date. For questions please contact stephanie@jdemart.com
URL:https://jdemart.com/event/unlocking-enterprise-analytics-for-jd-edwards-2/
LOCATION:Webinar
CATEGORIES:Webinar
ATTACH;FMTTYPE=image/jpeg:https://jdemart.com/wp-content/uploads/2024/04/BIREPORTING-jdemarteventscalendar-APR30.jpg
END:VEVENT
END:VCALENDAR