BEGIN:VCALENDAR
VERSION:2.0
PRODID:-//JDEMart.com - ECPv6.15.18//NONSGML v1.0//EN
CALSCALE:GREGORIAN
METHOD:PUBLISH
X-ORIGINAL-URL:https://jdemart.com
X-WR-CALDESC:Events for JDEMart.com
REFRESH-INTERVAL;VALUE=DURATION:PT1H
X-Robots-Tag:noindex
X-PUBLISHED-TTL:PT1H
BEGIN:VTIMEZONE
TZID:Europe/Madrid
BEGIN:DAYLIGHT
TZOFFSETFROM:+0100
TZOFFSETTO:+0200
TZNAME:CEST
DTSTART:20230326T010000
END:DAYLIGHT
BEGIN:STANDARD
TZOFFSETFROM:+0200
TZOFFSETTO:+0100
TZNAME:CET
DTSTART:20231029T010000
END:STANDARD
BEGIN:DAYLIGHT
TZOFFSETFROM:+0100
TZOFFSETTO:+0200
TZNAME:CEST
DTSTART:20240331T010000
END:DAYLIGHT
BEGIN:STANDARD
TZOFFSETFROM:+0200
TZOFFSETTO:+0100
TZNAME:CET
DTSTART:20241027T010000
END:STANDARD
BEGIN:DAYLIGHT
TZOFFSETFROM:+0100
TZOFFSETTO:+0200
TZNAME:CEST
DTSTART:20250330T010000
END:DAYLIGHT
BEGIN:STANDARD
TZOFFSETFROM:+0200
TZOFFSETTO:+0100
TZNAME:CET
DTSTART:20251026T010000
END:STANDARD
END:VTIMEZONE
BEGIN:VEVENT
DTSTART;TZID=Europe/Madrid:20240619T160000
DTEND;TZID=Europe/Madrid:20240619T170000
DTSTAMP:20260421T221612
CREATED:20240515T074316Z
LAST-MODIFIED:20240515T074333Z
UID:53819-1718812800-1718816400@jdemart.com
SUMMARY:Mastering Multi-Currency in JD Edwards with Automated Currency Rate Loading
DESCRIPTION:This unique Cloud Service application\, built on Oracle Cloud\, ensures the secure transmission of rates into your JDE application\, allowing the tool to securely push the rates into your JDE application via an AIS orchestration or pulled by a scheduled job on the JD Edwards side\, using the supported interface.This means the loading of rates becomes a single straight-through process to retrieve the rates from your chosen source\, process them and load them into JDE – a game-changer\, right?\n			\n				\n				\n				\n				\n				Join us for an insightful webinar where we’ll demonstrate how you can revolutionize your JDE currency rate management in under 30 minutes. With this innovative Multi-Currency Uploads solution\, you can seamlessly integrate FX rates from renowned providers like OANDA\, XE\, Xignite\, Open Exchange Rates\, Refinitiv\, Bloomberg and over 60 Central Banks\, including The European Central Bank. \n🎓 Learning Objectives:  \n• Explore the advantages of an automated currency rate load process• Discover proven best practices from a wealth of industry expertise\, including insights from over 150 companies on multi-currency setup in JDE • Gain invaluable insights into meeting FX statutory requirements across different jurisdictions.  \nThis webinar promises to equip you with the tools and knowledge you need to optimize your currency management processes.  \nDon’t miss out on this opportunity to streamline your operations and stay ahead in today’s dynamic business landscape! \n			\n				REGISTER NOW\n			\n				\n				\n				\n				\n				Can’t make it on this date?Register anyway and we’ll send you the on-demand recording shortly after the broadcast date. For questions please reach out to hello@jdemart.com
URL:https://jdemart.com/event/mastering-multi-currency-in-jd-edwards-with-automated-currency-rate-loading/
LOCATION:Webinar
CATEGORIES:Webinar
ATTACH;FMTTYPE=image/png:https://jdemart.com/wp-content/uploads/2024/05/Webinar-Multi-Currency-1200-x-600-px.png
END:VEVENT
END:VCALENDAR