BEGIN:VCALENDAR
VERSION:2.0
PRODID:-//JDEMart.com - ECPv6.15.18//NONSGML v1.0//EN
CALSCALE:GREGORIAN
METHOD:PUBLISH
X-WR-CALNAME:JDEMart.com
X-ORIGINAL-URL:https://jdemart.com
X-WR-CALDESC:Events for JDEMart.com
REFRESH-INTERVAL;VALUE=DURATION:PT1H
X-Robots-Tag:noindex
X-PUBLISHED-TTL:PT1H
BEGIN:VTIMEZONE
TZID:Europe/Madrid
BEGIN:DAYLIGHT
TZOFFSETFROM:+0100
TZOFFSETTO:+0200
TZNAME:CEST
DTSTART:20230326T010000
END:DAYLIGHT
BEGIN:STANDARD
TZOFFSETFROM:+0200
TZOFFSETTO:+0100
TZNAME:CET
DTSTART:20231029T010000
END:STANDARD
BEGIN:DAYLIGHT
TZOFFSETFROM:+0100
TZOFFSETTO:+0200
TZNAME:CEST
DTSTART:20240331T010000
END:DAYLIGHT
BEGIN:STANDARD
TZOFFSETFROM:+0200
TZOFFSETTO:+0100
TZNAME:CET
DTSTART:20241027T010000
END:STANDARD
BEGIN:DAYLIGHT
TZOFFSETFROM:+0100
TZOFFSETTO:+0200
TZNAME:CEST
DTSTART:20250330T010000
END:DAYLIGHT
BEGIN:STANDARD
TZOFFSETFROM:+0200
TZOFFSETTO:+0100
TZNAME:CET
DTSTART:20251026T010000
END:STANDARD
END:VTIMEZONE
BEGIN:VEVENT
DTSTART;TZID=Europe/Madrid:20240522T160000
DTEND;TZID=Europe/Madrid:20240522T170000
DTSTAMP:20260420T100222
CREATED:20240428T202546Z
LAST-MODIFIED:20240428T202625Z
UID:53807-1716393600-1716397200@jdemart.com
SUMMARY:Appshare: Transforming JD Edwards Operations with Simplified Business Automation
DESCRIPTION:What if you could automate JD Edwards EnterpriseOne-based business processes effortlessly? Introducing Appshare—a revolutionary solution that enables you to build\, deploy\, and manage web and mobile business apps without the need for additional hardware\, software\, or development resources typically associated with internal development platforms.\n			\n				\n				\n				\n				\n				Key features of Appshare include: \n📡 No local installation required📱 Access to over 600 JD Edwards apps🚫 No modifications needed to JD Edwards🔄 Available for SCM\, Financials\, Inventory Management\, Warehousing\, Maintenance\, Manufacturing\, and Procurement \nAppshare redefines the landscape of JD Edwards usage\, offering a new realm of possibilities. Explore this transformative tool\, rooted in the concept of app sharing\, and discover: \n1. How it simplifies user interaction with JDE\, driving automation across business processes.2. The tangible benefits customers have achieved through its implementation. \n			\n				REGISTER NOW\n			\n				\n				\n				\n				\n				Can’t make it on this date?Register anyway and we’ll send you the on-demand recording shortly after the broadcast date. For questions please contact stephanie@jdemart.com
URL:https://jdemart.com/event/appshare-transforming-jd-edwards-operations-with-simplified-business-automation/
LOCATION:Webinar
CATEGORIES:Webinar
ATTACH;FMTTYPE=image/jpeg:https://jdemart.com/wp-content/uploads/2024/04/jdemarteventscalendar-appshare-1.jpg
END:VEVENT
END:VCALENDAR