BEGIN:VCALENDAR
VERSION:2.0
PRODID:-//JDEMart.com - ECPv6.15.18//NONSGML v1.0//EN
CALSCALE:GREGORIAN
METHOD:PUBLISH
X-WR-CALNAME:JDEMart.com
X-ORIGINAL-URL:https://jdemart.com
X-WR-CALDESC:Events for JDEMart.com
REFRESH-INTERVAL;VALUE=DURATION:PT1H
X-Robots-Tag:noindex
X-PUBLISHED-TTL:PT1H
BEGIN:VTIMEZONE
TZID:Europe/Madrid
BEGIN:DAYLIGHT
TZOFFSETFROM:+0100
TZOFFSETTO:+0200
TZNAME:CEST
DTSTART:20230326T010000
END:DAYLIGHT
BEGIN:STANDARD
TZOFFSETFROM:+0200
TZOFFSETTO:+0100
TZNAME:CET
DTSTART:20231029T010000
END:STANDARD
BEGIN:DAYLIGHT
TZOFFSETFROM:+0100
TZOFFSETTO:+0200
TZNAME:CEST
DTSTART:20240331T010000
END:DAYLIGHT
BEGIN:STANDARD
TZOFFSETFROM:+0200
TZOFFSETTO:+0100
TZNAME:CET
DTSTART:20241027T010000
END:STANDARD
BEGIN:DAYLIGHT
TZOFFSETFROM:+0100
TZOFFSETTO:+0200
TZNAME:CEST
DTSTART:20250330T010000
END:DAYLIGHT
BEGIN:STANDARD
TZOFFSETFROM:+0200
TZOFFSETTO:+0100
TZNAME:CET
DTSTART:20251026T010000
END:STANDARD
END:VTIMEZONE
BEGIN:VEVENT
DTSTART;TZID=Europe/Madrid:20240515T160000
DTEND;TZID=Europe/Madrid:20240515T170000
DTSTAMP:20260420T235847
CREATED:20240428T200816Z
LAST-MODIFIED:20240429T040142Z
UID:53799-1715788800-1715792400@jdemart.com
SUMMARY:Discover the Power of Single Sign-on & Multi-factor Authentication for JD Edwards
DESCRIPTION:Don’t miss out on discovering why Single Sign-On (SSO) & Multi-factor Authentication (MFA) have become the preferred solution among JD Edwards users for revolutionizing their authentication and security landscape. Join us on Wednesday\, May 15th at as we unveil the full potential of these tools\, showcasing how they can elevate your JD Edwards experience and fortify your security measures.\n			\n				\n				\n				\n				\n				SSO & MFA epitomize Enterprise Strength\, Comprehensive Security\, and User-Friendly Access for JD Edwards!  \nHere’s what you’ll gain insight into:  \n🔑 Seamless Pass-Through Authentication: Experience firsthand how this tool eliminates the hassle of usernames and passwords\, ensuring a frictionless login process.  \n🔒 Enhanced MFA Authentication: Delve into the implementation of multi-factor authentication (MFA) through various SAML 2.0 providers\, bolstering your security posture. 🔗 Leveraging Deep Links: Witness how integrated deep links optimize your workflow\, particularly through email notifications\, streamlining your operations.  \n🌐 Comprehensive JD Edwards Ecosystem Authentication: Learn how SSO & MFA authenticate the entire JD Edwards ecosystem\, from ReportsNow to mobility applications.  \n🏢 Enterprise-Ready Solutions: Explore the tool’s ability to navigate complex environments\, including load balancing and multi-server setups.  \n✅ Native Integration with JD Edwards: Discover how it seamlessly integrates within JD Edwards\, minimizing setup complexities and support overheads. We look forward to seeing you on this exciting webinar! \n			\n				REGISTER NOW\n			\n				\n				\n				\n				\n				Can’t make it on this date?Register anyway and we’ll send you the on-demand recording shortly after the broadcast date. For questions please contact stephanie@jdemart.com
URL:https://jdemart.com/event/transform-your-authentication-and-security-landscape-with-single-sign-on-sso-multi-factor-authentication-mfafor-jd-edwards/
LOCATION:Webinar
CATEGORIES:Webinar
ATTACH;FMTTYPE=image/jpeg:https://jdemart.com/wp-content/uploads/2024/04/jdemarteventscalendar-TL-MAY.jpg
END:VEVENT
END:VCALENDAR