BEGIN:VCALENDAR
VERSION:2.0
PRODID:-//JDEMart.com - ECPv6.15.18//NONSGML v1.0//EN
CALSCALE:GREGORIAN
METHOD:PUBLISH
X-WR-CALNAME:JDEMart.com
X-ORIGINAL-URL:https://jdemart.com
X-WR-CALDESC:Events for JDEMart.com
REFRESH-INTERVAL;VALUE=DURATION:PT1H
X-Robots-Tag:noindex
X-PUBLISHED-TTL:PT1H
BEGIN:VTIMEZONE
TZID:Europe/Madrid
BEGIN:DAYLIGHT
TZOFFSETFROM:+0100
TZOFFSETTO:+0200
TZNAME:CEST
DTSTART:20230326T010000
END:DAYLIGHT
BEGIN:STANDARD
TZOFFSETFROM:+0200
TZOFFSETTO:+0100
TZNAME:CET
DTSTART:20231029T010000
END:STANDARD
BEGIN:DAYLIGHT
TZOFFSETFROM:+0100
TZOFFSETTO:+0200
TZNAME:CEST
DTSTART:20240331T010000
END:DAYLIGHT
BEGIN:STANDARD
TZOFFSETFROM:+0200
TZOFFSETTO:+0100
TZNAME:CET
DTSTART:20241027T010000
END:STANDARD
BEGIN:DAYLIGHT
TZOFFSETFROM:+0100
TZOFFSETTO:+0200
TZNAME:CEST
DTSTART:20250330T010000
END:DAYLIGHT
BEGIN:STANDARD
TZOFFSETFROM:+0200
TZOFFSETTO:+0100
TZNAME:CET
DTSTART:20251026T010000
END:STANDARD
END:VTIMEZONE
BEGIN:VEVENT
DTSTART;TZID=Europe/Madrid:20240430T160000
DTEND;TZID=Europe/Madrid:20240430T170000
DTSTAMP:20260424T153839
CREATED:20240408T174352Z
LAST-MODIFIED:20240408T174402Z
UID:53776-1714492800-1714496400@jdemart.com
SUMMARY:Unlocking Enterprise Analytics for JD Edwards
DESCRIPTION:Say goodbye to legacy JD Edwards reporting and messy spreadsheets\, and hello to compelling analytics and reporting in Power BI. Enterprise analytics is a powerful tool that helps business leaders access\, organize\, and use all forms of enterprise-wide data—usually from multiple sources—to gain the insights they need for data-driven decision making.\n			\n				\n				\n				\n				\n				This cutting-edge technology provides new opportunities for organizations to quickly process large\, diverse data sets and uncover valuable information that will save your company time and money.  \nIn this education session\, you will learn how to:  \n+ Seamlessly integrate your JD Edwards ERP data with other corporate data sources into a modern cloud-based data architecture designed to scale with your data footprint.+ Access key Power BI reports and dashboards on any device\, and receive automated reports delivered directly to your inbox.+ Eliminate data silos to gain insights into cross-business area performance using consistent business calculations and validated data business users can trust.  \nWe look forward to seeing you on this exciting webinar!  \n			\n				REGISTER NOW\n			\n				\n				\n				\n				\n				Can’t make it on this date?Register for April 25th at 10am Pacific Time / 1pm EDT  –Or simply register and we’ll send you the on-demand recording shortly after the broadcast date. For questions please contact stephanie@jdemart.com
URL:https://jdemart.com/event/unlocking-enterprise-analytics-for-jd-edwards-2/
LOCATION:Webinar
CATEGORIES:Webinar
ATTACH;FMTTYPE=image/jpeg:https://jdemart.com/wp-content/uploads/2024/04/BIREPORTING-jdemarteventscalendar-APR30.jpg
END:VEVENT
END:VCALENDAR