BEGIN:VCALENDAR
VERSION:2.0
PRODID:-//JDEMart.com - ECPv6.15.18//NONSGML v1.0//EN
CALSCALE:GREGORIAN
METHOD:PUBLISH
X-WR-CALNAME:JDEMart.com
X-ORIGINAL-URL:https://jdemart.com
X-WR-CALDESC:Events for JDEMart.com
REFRESH-INTERVAL;VALUE=DURATION:PT1H
X-Robots-Tag:noindex
X-PUBLISHED-TTL:PT1H
BEGIN:VTIMEZONE
TZID:Europe/Madrid
BEGIN:DAYLIGHT
TZOFFSETFROM:+0100
TZOFFSETTO:+0200
TZNAME:CEST
DTSTART:20230326T010000
END:DAYLIGHT
BEGIN:STANDARD
TZOFFSETFROM:+0200
TZOFFSETTO:+0100
TZNAME:CET
DTSTART:20231029T010000
END:STANDARD
BEGIN:DAYLIGHT
TZOFFSETFROM:+0100
TZOFFSETTO:+0200
TZNAME:CEST
DTSTART:20240331T010000
END:DAYLIGHT
BEGIN:STANDARD
TZOFFSETFROM:+0200
TZOFFSETTO:+0100
TZNAME:CET
DTSTART:20241027T010000
END:STANDARD
BEGIN:DAYLIGHT
TZOFFSETFROM:+0100
TZOFFSETTO:+0200
TZNAME:CEST
DTSTART:20250330T010000
END:DAYLIGHT
BEGIN:STANDARD
TZOFFSETFROM:+0200
TZOFFSETTO:+0100
TZNAME:CET
DTSTART:20251026T010000
END:STANDARD
END:VTIMEZONE
BEGIN:VEVENT
DTSTART;TZID=Europe/Madrid:20240320T180000
DTEND;TZID=Europe/Madrid:20240320T190000
DTSTAMP:20260424T065015
CREATED:20240304T175355Z
LAST-MODIFIED:20240304T175355Z
UID:53754-1710957600-1710961200@jdemart.com
SUMMARY:Take Control of Your JDE Documents with a Document Output Management (DOM) solution
DESCRIPTION:Are you tired of relying on BI Publisher or third-party tools for your JDE document management? It’s time to take control into your own hands. \n			\n				\n				\n				\n				\n				Join us for an exclusive webinar where we’ll introduce you to a game-changing tool that enables you to manage Document Output Management yourself\, including printing\, emailing\, and many other functions without the need for a developer.  \nDuring this webinar\, we’ll cover:  \n– What is a Document Output Management (DOM) solution? – Why is it essential\, and how the tool can help improve operational efficiency\, reduce costs\, and ensure regulatory compliance. – Tips for streamlining various document management functions within JDE – And we’ll end with a DEMO of the tool’s key features and a Live Q&A with our experts  \nDon’t miss out on this opportunity to revolutionize your JDE document management. Register now –and make sure to pose all your questions about Output Management to our experts.  \nWe look forward to seeing you there! \n			\n				REGISTER NOW\n			\n				\n				\n				\n				\n				Can’t make it on this date?Register anyway and we’ll send you the webinar recording after the event.
URL:https://jdemart.com/event/take-control-of-your-jde-documents-with-a-document-output-management-dom-solution/
LOCATION:Webinar
CATEGORIES:Webinar
ATTACH;FMTTYPE=image/jpeg:https://jdemart.com/wp-content/uploads/2024/03/jdemarteventscalendar-OUTPUT.jpg
END:VEVENT
END:VCALENDAR